Package: HPiP
Version: 1.10.0
Maintainer: Matineh Rahmatbakhsh
MaintainerEmail: matinerb.94 at gmail.com
git_url: https://git.bioconductor.org/packages/HPiP
git_branch: RELEASE_3_19
git_last_commit: 09dc3c1
git_last_commit_date: 2024-04-30 11:37:16 -0400 (Tue, 30 Apr 2024)