Package: HMMcopy
Version: 1.46.0
Maintainer: Daniel Lai
MaintainerEmail: dalai at bccrc.ca
git_url: https://git.bioconductor.org/packages/HMMcopy
git_branch: RELEASE_3_19
git_last_commit: 7de341f
git_last_commit_date: 2024-04-30 10:29:15 -0400 (Tue, 30 Apr 2024)