Package: HIBAG
Version: 1.40.0
Maintainer: Xiuwen Zheng
MaintainerEmail: zhengx at u.washington.edu
git_url: https://git.bioconductor.org/packages/HIBAG
git_branch: RELEASE_3_19
git_last_commit: 5f90ddf
git_last_commit_date: 2024-04-30 10:41:37 -0400 (Tue, 30 Apr 2024)