Package: HGC
Version: 1.12.0
Maintainer: XGlab
MaintainerEmail: xglab at mail.tsinghua.edu.cn
git_url: https://git.bioconductor.org/packages/HGC
git_branch: RELEASE_3_19
git_last_commit: 4e5aaab
git_last_commit_date: 2024-04-30 11:34:26 -0400 (Tue, 30 Apr 2024)