Package: HERON
Version: 1.2.0
Command: chmod a+r HERON -R && E:\biocbuild\bbs-3.19-bioc\R\bin\R.exe CMD build --keep-empty-dirs --no-resave-data HERON
StartedAt: 2024-10-16 19:40:34 -0400 (Wed, 16 Oct 2024)
EndedAt: 2024-10-16 19:41:44 -0400 (Wed, 16 Oct 2024)
EllapsedTime: 69.7 seconds
RetCode: 0
Status: OK
PackageFile: HERON_1.2.0.tar.gz
PackageFileSize: 963.6 <A href="http://en.wikipedia.org/wiki/KiB" target="_blank">KiB</A>