Package: HERON
Version: 1.2.0
Command: /Library/Frameworks/R.framework/Resources/bin/R CMD build --keep-empty-dirs --no-resave-data HERON
StartedAt: 2024-06-09 16:56:00 -0400 (Sun, 09 Jun 2024)
EndedAt: 2024-06-09 16:57:04 -0400 (Sun, 09 Jun 2024)
EllapsedTime: 64.4 seconds
RetCode: 0
Status: OK
PackageFile: HERON_1.2.0.tar.gz
PackageFileSize: 963.2 <A href="http://en.wikipedia.org/wiki/KiB" target="_blank">KiB</A>