Package: HERON
Version: 1.2.0
Command: rm -rf HERON.buildbin-libdir && mkdir HERON.buildbin-libdir && /Users/biocbuild/BBS/utils/build-universal.sh HERON_1.2.0.tar.gz /Library/Frameworks/R.framework/Resources/bin/R HERON.buildbin-libdir
StartedAt: 2024-06-10 00:21:59 -0400 (Mon, 10 Jun 2024)
EndedAt: 2024-06-10 00:22:30 -0400 (Mon, 10 Jun 2024)
EllapsedTime: 31.5 seconds
RetCode: 0
Status: OK
PackageFile: HERON_1.2.0.tgz
PackageFileSize: 1.07 <A href="http://en.wikipedia.org/wiki/MiB" target="_blank">MiB</A>