Package: HERON
Version: 1.2.0
Command: /Library/Frameworks/R.framework/Resources/bin/R CMD INSTALL HERON
StartedAt: 2024-10-16 18:10:20 -0400 (Wed, 16 Oct 2024)
EndedAt: 2024-10-16 18:10:46 -0400 (Wed, 16 Oct 2024)
EllapsedTime: 26.3 seconds
RetCode: 0
Status: OK