Package: HERON
Version: 1.2.0
Command: rm -rf HERON.buildbin-libdir && mkdir HERON.buildbin-libdir && /Users/biocbuild/BBS/utils/build-universal.sh HERON_1.2.0.tar.gz /Library/Frameworks/R.framework/Resources/bin/R HERON.buildbin-libdir
StartedAt: 2024-10-18 18:54:01 -0400 (Fri, 18 Oct 2024)
EndedAt: 2024-10-18 18:54:34 -0400 (Fri, 18 Oct 2024)
EllapsedTime: 33.1 seconds
RetCode: 0
Status: OK
PackageFile: HERON_1.2.0.tgz
PackageFileSize: 1.072 <A href="http://en.wikipedia.org/wiki/MiB" target="_blank">MiB</A>