Package: HELP
Version: 1.62.0
Command: E:\biocbuild\bbs-3.19-bioc\R\bin\R.exe CMD INSTALL HELP
StartedAt: 2024-10-16 16:01:49 -0400 (Wed, 16 Oct 2024)
EndedAt: 2024-10-16 16:02:09 -0400 (Wed, 16 Oct 2024)
EllapsedTime: 20.4 seconds
RetCode: 0
Status: OK