Package: HELP
Version: 1.62.0
Command: F:\biocbuild\bbs-3.19-bioc\R\bin\R.exe CMD INSTALL HELP
StartedAt: 2024-06-26 15:39:46 -0400 (Wed, 26 Jun 2024)
EndedAt: 2024-06-26 15:40:08 -0400 (Wed, 26 Jun 2024)
EllapsedTime: 22.0 seconds
RetCode: 0
Status: OK