##############################################################################
##############################################################################
###
### Running command:
###
###   chmod a+r HELP -R && F:\biocbuild\bbs-3.19-bioc\R\bin\R.exe CMD build --keep-empty-dirs --no-resave-data HELP
###
##############################################################################
##############################################################################


* checking for file 'HELP/DESCRIPTION' ... OK
* preparing 'HELP':
* checking DESCRIPTION meta-information ... OK
* installing the package to build vignettes
* creating vignettes ... OK
* checking for LF line-endings in source and make files and shell scripts
* checking for empty or unneeded directories
* looking to see if a 'data/datalist' file should be added
* building 'HELP_1.62.0.tar.gz'