Package: HELP
Version: 1.62.0
Command: /home/biocbuild/R/R-beta-2024-04-15_r86425/bin/R CMD INSTALL HELP
StartedAt: 2024-05-08 20:03:04 -0000 (Wed, 08 May 2024)
EndedAt: 2024-05-08 20:03:19 -0000 (Wed, 08 May 2024)
EllapsedTime: 14.7 seconds
RetCode: 0
Status: OK