Package: HELP
Version: 1.62.0
Command: /home/biocbuild/R/R-beta-2024-04-15_r86425/bin/R CMD check --install=check:HELP.install-out.txt --library=/home/biocbuild/R/R-beta-2024-04-15_r86425/site-library --no-vignettes --timings HELP_1.62.0.tar.gz
StartedAt: 2024-05-09 08:16:05 -0000 (Thu, 09 May 2024)
EndedAt: 2024-05-09 08:18:11 -0000 (Thu, 09 May 2024)
EllapsedTime: 126.2 seconds
RetCode: 0
Status: OK
CheckDir: HELP.Rcheck
Warnings: 0