Package: HELP
Version: 1.62.0
Command: /home/biocbuild/R/R-beta-2024-04-15_r86425/bin/R CMD build --keep-empty-dirs --no-resave-data HELP
StartedAt: 2024-05-09 00:54:29 -0000 (Thu, 09 May 2024)
EndedAt: 2024-05-09 00:54:41 -0000 (Thu, 09 May 2024)
EllapsedTime: 12.0 seconds
RetCode: 0
Status: OK
PackageFile: HELP_1.62.0.tar.gz
PackageFileSize: 989.5 <A href="http://en.wikipedia.org/wiki/KiB" target="_blank">KiB</A>