Package: Guitar
Version: 2.20.0
Maintainer: Jia Meng
MaintainerEmail: jia.meng at xjtlu.edu.cn
git_url: https://git.bioconductor.org/packages/Guitar
git_branch: RELEASE_3_19
git_last_commit: 6842fab
git_last_commit_date: 2024-04-30 10:45:55 -0400 (Tue, 30 Apr 2024)