Package: GraphAlignment Version: 1.68.0 Maintainer: Joern P. Meier MaintainerEmail: mail at ionflux.org git_url: https://git.bioconductor.org/packages/GraphAlignment git_branch: RELEASE_3_19 git_last_commit: 842b00a git_last_commit_date: 2024-04-30 10:17:38 -0400 (Tue, 30 Apr 2024)