Package: GrafGen
Version: 1.0.0
Command: E:\biocbuild\bbs-3.19-bioc\R\bin\R.exe CMD check --no-multiarch --install=check:GrafGen.install-out.txt --library=E:\biocbuild\bbs-3.19-bioc\R\library --no-vignettes --timings GrafGen_1.0.0.tar.gz
StartedAt: 2024-10-17 02:05:19 -0400 (Thu, 17 Oct 2024)
EndedAt: 2024-10-17 02:07:40 -0400 (Thu, 17 Oct 2024)
EllapsedTime: 140.8 seconds
RetCode: 0
Status: OK
CheckDir: GrafGen.Rcheck
Warnings: 0