Package: GrafGen Version: 1.0.0 Command: rm -rf GrafGen.buildbin-libdir && mkdir GrafGen.buildbin-libdir && E:\biocbuild\bbs-3.19-bioc\R\bin\R.exe CMD INSTALL --build --library=GrafGen.buildbin-libdir GrafGen_1.0.0.tar.gz StartedAt: 2024-10-17 07:54:54 -0400 (Thu, 17 Oct 2024) EndedAt: 2024-10-17 07:55:38 -0400 (Thu, 17 Oct 2024) EllapsedTime: 44.1 seconds RetCode: 0 Status: OK PackageFile: GrafGen_1.0.0.zip PackageFileSize: 3.398 <A href="http://en.wikipedia.org/wiki/MiB" target="_blank">MiB</A>