Package: GrafGen
Version: 1.0.0
Command: /Library/Frameworks/R.framework/Resources/bin/R CMD check --install=check:GrafGen.install-out.txt --library=/Library/Frameworks/R.framework/Resources/library --no-vignettes --timings GrafGen_1.0.0.tar.gz
StartedAt: 2024-10-17 06:18:02 -0400 (Thu, 17 Oct 2024)
EndedAt: 2024-10-17 06:22:03 -0400 (Thu, 17 Oct 2024)
EllapsedTime: 240.7 seconds
RetCode: 0
Status: OK
CheckDir: GrafGen.Rcheck
Warnings: 0