Package: GrafGen
Version: 1.0.0
Command: /home/biocbuild/R/R-beta-2024-04-15_r86425/bin/R CMD INSTALL GrafGen
StartedAt: 2024-05-08 21:04:28 -0000 (Wed, 08 May 2024)
EndedAt: 2024-05-08 21:05:01 -0000 (Wed, 08 May 2024)
EllapsedTime: 32.9 seconds
RetCode: 0
Status: OK