Package: GrafGen
Version: 1.0.0
Command: /home/biocbuild/R/R-beta-2024-04-15_r86425/bin/R CMD check --install=check:GrafGen.install-out.txt --library=/home/biocbuild/R/R-beta-2024-04-15_r86425/site-library --no-vignettes --timings GrafGen_1.0.0.tar.gz
StartedAt: 2024-05-09 08:05:52 -0000 (Thu, 09 May 2024)
EndedAt: 2024-05-09 08:08:03 -0000 (Thu, 09 May 2024)
EllapsedTime: 131.3 seconds
RetCode: 0
Status: OK
CheckDir: GrafGen.Rcheck
Warnings: 0