Package: GrafGen
Version: 1.0.0
Command: /Library/Frameworks/R.framework/Resources/bin/R CMD INSTALL GrafGen
StartedAt: 2024-10-16 18:51:19 -0400 (Wed, 16 Oct 2024)
EndedAt: 2024-10-16 18:51:47 -0400 (Wed, 16 Oct 2024)
EllapsedTime: 27.6 seconds
RetCode: 0
Status: OK