Package: GeoDiff
Version: 1.10.0
Command: F:\biocbuild\bbs-3.19-bioc\R\bin\R.exe CMD INSTALL GeoDiff
StartedAt: 2024-06-26 16:53:37 -0400 (Wed, 26 Jun 2024)
EndedAt: 2024-06-26 16:55:40 -0400 (Wed, 26 Jun 2024)
EllapsedTime: 123.2 seconds
RetCode: 0
Status: OK