Package: GeoDiff
Version: 1.10.0
Command: /home/biocbuild/bbs-3.19-bioc/R/bin/R CMD INSTALL GeoDiff
StartedAt: 2024-10-16 16:47:06 -0400 (Wed, 16 Oct 2024)
EndedAt: 2024-10-16 16:48:27 -0400 (Wed, 16 Oct 2024)
EllapsedTime: 81.6 seconds
RetCode: 0
Status: OK