Package: GeoDiff
Version: 1.10.0
Command: /home/biocbuild/R/R-beta-2024-04-15_r86425/bin/R CMD INSTALL GeoDiff
StartedAt: 2024-05-08 21:07:43 -0000 (Wed, 08 May 2024)
EndedAt: 2024-05-08 21:10:20 -0000 (Wed, 08 May 2024)
EllapsedTime: 156.9 seconds
RetCode: 0
Status: OK