Package: GenomicPlot
Version: 1.2.4
Command: /Library/Frameworks/R.framework/Resources/bin/R CMD check --install=check:GenomicPlot.install-out.txt --library=/Library/Frameworks/R.framework/Resources/library --no-vignettes --timings GenomicPlot_1.2.4.tar.gz
StartedAt: 2024-10-17 05:50:30 -0400 (Thu, 17 Oct 2024)
EndedAt: 2024-10-17 06:15:51 -0400 (Thu, 17 Oct 2024)
EllapsedTime: 1521.8 seconds
RetCode: 0
Status: OK
CheckDir: GenomicPlot.Rcheck
Warnings: 0