##############################################################################
##############################################################################
###
### Running command:
###
###   rm -rf GenomicPlot.buildbin-libdir && mkdir GenomicPlot.buildbin-libdir && /Users/biocbuild/BBS/utils/build-universal.sh GenomicPlot_1.2.4.tar.gz /Library/Frameworks/R.framework/Resources/bin/R GenomicPlot.buildbin-libdir
###
##############################################################################
##############################################################################


>>>>>>> 
>>>>>>> INSTALLATION WITH 'R CMD INSTALL --preclean --no-multiarch --library=GenomicPlot.buildbin-libdir GenomicPlot_1.2.4.tar.gz'
>>>>>>> 

* installing *source* package ‘GenomicPlot’ ...
** using staged installation
** R
** data
** inst
** byte-compile and prepare package for lazy loading
Warning: replacing previous import ‘Biostrings::pattern’ by ‘grid::pattern’ when loading ‘genomation’
** help
*** installing help indices
** building package indices
** installing vignettes
** testing if installed package can be loaded from temporary location
Warning: replacing previous import ‘Biostrings::pattern’ by ‘grid::pattern’ when loading ‘genomation’
** testing if installed package can be loaded from final location
Warning: replacing previous import ‘Biostrings::pattern’ by ‘grid::pattern’ when loading ‘genomation’
** testing if installed package keeps a record of temporary installation path
* DONE (GenomicPlot)