Package: GenomicPlot
Version: 1.2.1
Command: /Library/Frameworks/R.framework/Resources/bin/R CMD build --keep-empty-dirs --no-resave-data GenomicPlot
StartedAt: 2024-06-09 16:46:20 -0400 (Sun, 09 Jun 2024)
EndedAt: 2024-06-09 16:48:53 -0400 (Sun, 09 Jun 2024)
EllapsedTime: 153.1 seconds
RetCode: 0
Status: OK
PackageFile: GenomicPlot_1.2.1.tar.gz
PackageFileSize: 3.967 <A href="http://en.wikipedia.org/wiki/MiB" target="_blank">MiB</A>