Package: GenomicPlot Version: 1.2.1 Command: rm -rf GenomicPlot.buildbin-libdir && mkdir GenomicPlot.buildbin-libdir && /Users/biocbuild/BBS/utils/build-universal.sh GenomicPlot_1.2.1.tar.gz /Library/Frameworks/R.framework/Resources/bin/R GenomicPlot.buildbin-libdir StartedAt: 2024-06-10 00:19:52 -0400 (Mon, 10 Jun 2024) EndedAt: 2024-06-10 00:21:05 -0400 (Mon, 10 Jun 2024) EllapsedTime: 72.3 seconds RetCode: 0 Status: OK PackageFile: GenomicPlot_1.2.1.tgz PackageFileSize: 4.107 <A href="http://en.wikipedia.org/wiki/MiB" target="_blank">MiB</A>