Package: GenomicPlot
Version: 1.2.0
Command: /home/biocbuild/R/R-beta-2024-04-15_r86425/bin/R CMD INSTALL GenomicPlot
StartedAt: 2024-05-08 21:04:43 -0000 (Wed, 08 May 2024)
EndedAt: 2024-05-08 21:05:52 -0000 (Wed, 08 May 2024)
EllapsedTime: 68.8 seconds
RetCode: 0
Status: OK