##############################################################################
##############################################################################
###
### Running command:
###
###   /home/biocbuild/R/R-beta-2024-04-15_r86425/bin/R CMD check --install=check:GenomicPlot.install-out.txt --library=/home/biocbuild/R/R-beta-2024-04-15_r86425/site-library --no-vignettes --timings GenomicPlot_1.2.0.tar.gz
###
##############################################################################
##############################################################################


* using log directory ‘/home/biocbuild/bbs-3.19-bioc/meat/GenomicPlot.Rcheck’
* using R version 4.4.0 beta (2024-04-15 r86425)
* using platform: aarch64-unknown-linux-gnu
* R was compiled by
    gcc (GCC) 10.3.1
    GNU Fortran (GCC) 10.3.1
* running under: openEuler 22.03 (LTS-SP1)
* using session charset: UTF-8
* using option ‘--no-vignettes’
* checking for file ‘GenomicPlot/DESCRIPTION’ ... OK
* checking extension type ... Package
* this is package ‘GenomicPlot’ version ‘1.2.0’
* package encoding: UTF-8
* checking package namespace information ... OK
* checking package dependencies ... OK
* checking if this is a source package ... OK
* checking if there is a namespace ... OK
* checking for hidden files and directories ... OK
* checking for portable file names ... OK
* checking for sufficient/correct file permissions ... OK
* checking whether package ‘GenomicPlot’ can be installed ... OK
* checking installed package size ... OK
* checking package directory ... OK
* checking ‘build’ directory ... OK
* checking DESCRIPTION meta-information ... OK
* checking top-level files ... OK
* checking for left-over files ... OK
* checking index information ... OK
* checking package subdirectories ... OK
* checking code files for non-ASCII characters ... OK
* checking R files for syntax errors ... OK
* checking whether the package can be loaded ... OK
* checking whether the package can be loaded with stated dependencies ... OK
* checking whether the package can be unloaded cleanly ... OK
* checking whether the namespace can be loaded with stated dependencies ... OK
* checking whether the namespace can be unloaded cleanly ... OK
* checking loading without being on the library search path ... OK
* checking dependencies in R code ... OK
* checking S3 generic/method consistency ... OK
* checking replacement functions ... OK
* checking foreign function calls ... OK
* checking R code for possible problems ... NOTE
get_targeted_genes: no visible binding for global variable ‘5'UTR’
get_targeted_genes: no visible binding for global variable ‘3'UTR’
handle_bam: no visible global function definition for ‘seqlevelsStyle’
handle_bam: no visible global function definition for
  ‘seqlevelsStyle<-’
handle_bed: no visible global function definition for ‘seqlevelsStyle’
handle_bed: no visible global function definition for
  ‘seqlevelsStyle<-’
handle_bedGraph: no visible global function definition for
  ‘seqlevelsStyle’
handle_bedGraph: no visible global function definition for
  ‘seqlevelsStyle<-’
handle_bw: no visible global function definition for ‘seqlevelsStyle’
handle_bw: no visible global function definition for ‘seqlevelsStyle<-’
plot_bam_correlation: no visible binding for global variable ‘.’
plot_peak_annotation: no visible binding for global variable ‘.’
Undefined global functions or variables:
  . 3'UTR 5'UTR seqlevelsStyle seqlevelsStyle<-
* checking Rd files ... OK
* checking Rd metadata ... OK
* checking Rd cross-references ... OK
* checking for missing documentation entries ... OK
* checking for code/documentation mismatches ... OK
* checking Rd \usage sections ... OK
* checking Rd contents ... OK
* checking for unstated dependencies in examples ... OK
* checking contents of ‘data’ directory ... OK
* checking data for non-ASCII characters ... OK
* checking data for ASCII and uncompressed saves ... OK
* checking files in ‘vignettes’ ... OK
* checking examples ... OK
Examples with CPU (user + system) or elapsed time > 5s
                                  user system elapsed
plot_start_end_with_random      22.945  4.712  24.496
plot_region                     18.693  6.532  17.551
plot_5parts_metagene            15.953  6.107  16.501
plot_locus                      17.688  3.958  17.388
plot_start_end                  15.117  2.884  16.477
plot_locus_with_random          13.505  3.469  12.967
plot_peak_annotation            10.526  0.208  10.754
get_targeted_genes               9.046  0.347   9.413
get_txdb_features                8.003  0.160   8.179
prepare_5parts_genomic_features  6.604  0.023   6.639
* checking for unstated dependencies in ‘tests’ ... OK
* checking tests ...
  Running ‘test-plotFunctions.R’
  Running ‘test-shortFunctions.R’
 OK
* checking for unstated dependencies in vignettes ... OK
* checking package vignettes ... OK
* checking running R code from vignettes ... SKIPPED
* checking re-building of vignette outputs ... SKIPPED
* checking PDF version of manual ... OK
* DONE

Status: 1 NOTE
See
  ‘/home/biocbuild/bbs-3.19-bioc/meat/GenomicPlot.Rcheck/00check.log’
for details.