Package: GenomicPlot
Version: 1.2.0
Command: /home/biocbuild/R/R-beta-2024-04-15_r86425/bin/R CMD build --keep-empty-dirs --no-resave-data GenomicPlot
StartedAt: 2024-05-09 00:31:53 -0000 (Thu, 09 May 2024)
EndedAt: 2024-05-09 00:35:19 -0000 (Thu, 09 May 2024)
EllapsedTime: 206.3 seconds
RetCode: 0
Status: OK
PackageFile: GenomicPlot_1.2.0.tar.gz
PackageFileSize: 1.922 <A href="http://en.wikipedia.org/wiki/MiB" target="_blank">MiB</A>