Package: GenomicPlot
Version: 1.2.1
Command: /Library/Frameworks/R.framework/Resources/bin/R CMD check --install=check:GenomicPlot.install-out.txt --library=/Library/Frameworks/R.framework/Resources/library --no-vignettes --timings GenomicPlot_1.2.1.tar.gz
StartedAt: 2024-06-10 16:53:12 -0400 (Mon, 10 Jun 2024)
EndedAt: 2024-06-10 17:12:29 -0400 (Mon, 10 Jun 2024)
EllapsedTime: 1157.1 seconds
RetCode: 0
Status: OK
CheckDir: GenomicPlot.Rcheck
Warnings: 0