Package: GenomicOZone Version: 1.18.0 Maintainer: Hua Zhong<zh9118@gmail.com>, Mingzhou Song MaintainerEmail: joemsong at cs.nmsu.edu git_url: https://git.bioconductor.org/packages/GenomicOZone git_branch: RELEASE_3_19 git_last_commit: f592f0e git_last_commit_date: 2024-04-30 11:16:30 -0400 (Tue, 30 Apr 2024)