Package: GenomicInteractionNodes
Version: 1.8.0
Command: E:\biocbuild\bbs-3.19-bioc\R\bin\R.exe CMD INSTALL GenomicInteractionNodes
StartedAt: 2024-10-16 16:28:40 -0400 (Wed, 16 Oct 2024)
EndedAt: 2024-10-16 16:29:50 -0400 (Wed, 16 Oct 2024)
EllapsedTime: 69.9 seconds
RetCode: 0
Status: OK