Package: GenomicInteractionNodes
Version: 1.8.0
Command: E:\biocbuild\bbs-3.19-bioc\R\bin\R.exe CMD check --no-multiarch --install=check:GenomicInteractionNodes.install-out.txt --library=E:\biocbuild\bbs-3.19-bioc\R\library --no-vignettes --timings GenomicInteractionNodes_1.8.0.tar.gz
StartedAt: 2024-10-17 01:47:35 -0400 (Thu, 17 Oct 2024)
EndedAt: 2024-10-17 01:55:45 -0400 (Thu, 17 Oct 2024)
EllapsedTime: 489.5 seconds
RetCode: 0
Status: OK
CheckDir: GenomicInteractionNodes.Rcheck
Warnings: 0