Package: GenomicInteractionNodes
Version: 1.8.0
Command: F:\biocbuild\bbs-3.19-bioc\R\bin\R.exe CMD INSTALL GenomicInteractionNodes
StartedAt: 2024-06-26 16:04:48 -0400 (Wed, 26 Jun 2024)
EndedAt: 2024-06-26 16:05:33 -0400 (Wed, 26 Jun 2024)
EllapsedTime: 44.8 seconds
RetCode: 0
Status: OK