##############################################################################
##############################################################################
###
### Running command:
###
###   chmod a+r GenomicInteractionNodes -R && F:\biocbuild\bbs-3.19-bioc\R\bin\R.exe CMD build --keep-empty-dirs --no-resave-data GenomicInteractionNodes
###
##############################################################################
##############################################################################


* checking for file 'GenomicInteractionNodes/DESCRIPTION' ... OK
* preparing 'GenomicInteractionNodes':
* checking DESCRIPTION meta-information ... OK
* installing the package to build vignettes
* creating vignettes ... OK
* checking for LF line-endings in source and make files and shell scripts
* checking for empty or unneeded directories
* building 'GenomicInteractionNodes_1.8.0.tar.gz'