Package: GenomicInteractionNodes
Version: 1.8.0
Command: rm -rf GenomicInteractionNodes.buildbin-libdir && mkdir GenomicInteractionNodes.buildbin-libdir && F:\biocbuild\bbs-3.19-bioc\R\bin\R.exe CMD INSTALL --build --library=GenomicInteractionNodes.buildbin-libdir GenomicInteractionNodes_1.8.0.tar.gz
StartedAt: 2024-06-27 08:16:22 -0400 (Thu, 27 Jun 2024)
EndedAt: 2024-06-27 08:17:07 -0400 (Thu, 27 Jun 2024)
EllapsedTime: 44.1 seconds
RetCode: 0
Status: OK
PackageFile: GenomicInteractionNodes_1.8.0.zip
PackageFileSize: 276.7 <A href="http://en.wikipedia.org/wiki/KiB" target="_blank">KiB</A>