Package: GenomicInteractionNodes
Version: 1.8.0
Command: /Library/Frameworks/R.framework/Resources/bin/R CMD INSTALL GenomicInteractionNodes
StartedAt: 2024-10-16 15:36:58 -0400 (Wed, 16 Oct 2024)
EndedAt: 2024-10-16 15:38:10 -0400 (Wed, 16 Oct 2024)
EllapsedTime: 72.4 seconds
RetCode: 0
Status: OK