Package: GenomicInteractionNodes
Version: 1.8.0
Command: /Library/Frameworks/R.framework/Resources/bin/R CMD check --install=check:GenomicInteractionNodes.install-out.txt --library=/Library/Frameworks/R.framework/Resources/library --no-vignettes --timings GenomicInteractionNodes_1.8.0.tar.gz
StartedAt: 2024-10-17 05:50:06 -0400 (Thu, 17 Oct 2024)
EndedAt: 2024-10-17 06:04:49 -0400 (Thu, 17 Oct 2024)
EllapsedTime: 882.5 seconds
RetCode: 0
Status: OK
CheckDir: GenomicInteractionNodes.Rcheck
Warnings: 0