Package: GenomicInteractionNodes
Version: 1.8.0
Command: /home/biocbuild/R/R-beta-2024-04-15_r86425/bin/R CMD build --keep-empty-dirs --no-resave-data GenomicInteractionNodes
StartedAt: 2024-05-09 00:31:28 -0000 (Thu, 09 May 2024)
EndedAt: 2024-05-09 00:33:50 -0000 (Thu, 09 May 2024)
EllapsedTime: 142.2 seconds
RetCode: 0
Status: OK
PackageFile: GenomicInteractionNodes_1.8.0.tar.gz
PackageFileSize: 274.2 <A href="http://en.wikipedia.org/wiki/KiB" target="_blank">KiB</A>