Package: GenomicInteractionNodes
Version: 1.8.0
Command: rm -rf GenomicInteractionNodes.buildbin-libdir && mkdir GenomicInteractionNodes.buildbin-libdir && /Users/biocbuild/BBS/utils/build-universal.sh GenomicInteractionNodes_1.8.0.tar.gz /Library/Frameworks/R.framework/Resources/bin/R GenomicInteractionNodes.buildbin-libdir
StartedAt: 2024-10-18 18:40:35 -0400 (Fri, 18 Oct 2024)
EndedAt: 2024-10-18 18:41:25 -0400 (Fri, 18 Oct 2024)
EllapsedTime: 50.0 seconds
RetCode: 0
Status: OK
PackageFile: GenomicInteractionNodes_1.8.0.tgz
PackageFileSize: 273.1 <A href="http://en.wikipedia.org/wiki/KiB" target="_blank">KiB</A>