Package: GenomAutomorphism
Version: 1.6.0
Maintainer: Robersy Sanchez
MaintainerEmail: genomicmath at gmail.com
git_url: https://git.bioconductor.org/packages/GenomAutomorphism
git_branch: RELEASE_3_19
git_last_commit: 22d7b7a
git_last_commit_date: 2024-04-30 11:43:53 -0400 (Tue, 30 Apr 2024)