Package: GeneOverlap
Version: 1.40.0
Maintainer: António Miguel de Jesus Domingues, Max-Planck Institute for Cell Biology and Genetics
MaintainerEmail: amjdomingues at gmail.com
git_url: https://git.bioconductor.org/packages/GeneOverlap
git_branch: RELEASE_3_19
git_last_commit: 0ce79b1
git_last_commit_date: 2024-04-30 10:34:45 -0400 (Tue, 30 Apr 2024)