Package: GeneGA
Version: 1.54.0
Maintainer: Zhenpeng Li
MaintainerEmail: zpli21 at gmail.com
git_url: https://git.bioconductor.org/packages/GeneGA
git_branch: RELEASE_3_19
git_last_commit: 6afaa2e
git_last_commit_date: 2024-04-30 10:22:56 -0400 (Tue, 30 Apr 2024)