Package: GenProSeq
Version: 1.8.0
Command: /Library/Frameworks/R.framework/Resources/bin/R CMD INSTALL GenProSeq
StartedAt: 2024-10-16 16:53:22 -0400 (Wed, 16 Oct 2024)
EndedAt: 2024-10-16 16:53:48 -0400 (Wed, 16 Oct 2024)
EllapsedTime: 25.8 seconds
RetCode: 0
Status: OK