Package: GenProSeq
Version: 1.8.0
Command: /Library/Frameworks/R.framework/Resources/bin/R CMD build --keep-empty-dirs --no-resave-data GenProSeq
StartedAt: 2024-10-16 19:32:38 -0400 (Wed, 16 Oct 2024)
EndedAt: 2024-10-16 19:38:07 -0400 (Wed, 16 Oct 2024)
EllapsedTime: 329.8 seconds
RetCode: 0
Status: OK
PackageFile: GenProSeq_1.8.0.tar.gz
PackageFileSize: 2.327 <A href="http://en.wikipedia.org/wiki/MiB" target="_blank">MiB</A>