Package: GenProSeq
Version: 1.8.0
Command: rm -rf GenProSeq.buildbin-libdir && mkdir GenProSeq.buildbin-libdir && /Users/biocbuild/BBS/utils/build-universal.sh GenProSeq_1.8.0.tar.gz /Library/Frameworks/R.framework/Resources/bin/R GenProSeq.buildbin-libdir
StartedAt: 2024-10-17 16:15:03 -0400 (Thu, 17 Oct 2024)
EndedAt: 2024-10-17 16:15:35 -0400 (Thu, 17 Oct 2024)
EllapsedTime: 31.9 seconds
RetCode: 0
Status: OK
PackageFile: GenProSeq_1.8.0.tgz
PackageFileSize: 1.602 <A href="http://en.wikipedia.org/wiki/MiB" target="_blank">MiB</A>